BEGIN:VCALENDAR
VERSION:2.0
PRODID:-//Merri Mashers - ECPv6.15.20//NONSGML v1.0//EN
CALSCALE:GREGORIAN
METHOD:PUBLISH
X-WR-CALNAME:Merri Mashers
X-ORIGINAL-URL:https://merrimashers.org
X-WR-CALDESC:Events for Merri Mashers
REFRESH-INTERVAL;VALUE=DURATION:PT1H
X-Robots-Tag:noindex
X-PUBLISHED-TTL:PT1H
BEGIN:VTIMEZONE
TZID:Australia/Melbourne
BEGIN:STANDARD
TZOFFSETFROM:+1100
TZOFFSETTO:+1000
TZNAME:AEST
DTSTART:20250405T160000
END:STANDARD
BEGIN:DAYLIGHT
TZOFFSETFROM:+1000
TZOFFSETTO:+1100
TZNAME:AEDT
DTSTART:20251004T160000
END:DAYLIGHT
BEGIN:STANDARD
TZOFFSETFROM:+1100
TZOFFSETTO:+1000
TZNAME:AEST
DTSTART:20260404T160000
END:STANDARD
BEGIN:DAYLIGHT
TZOFFSETFROM:+1000
TZOFFSETTO:+1100
TZNAME:AEDT
DTSTART:20261003T160000
END:DAYLIGHT
BEGIN:STANDARD
TZOFFSETFROM:+1100
TZOFFSETTO:+1000
TZNAME:AEST
DTSTART:20270403T160000
END:STANDARD
BEGIN:DAYLIGHT
TZOFFSETFROM:+1000
TZOFFSETTO:+1100
TZNAME:AEDT
DTSTART:20271002T160000
END:DAYLIGHT
END:VTIMEZONE
BEGIN:VEVENT
DTSTART;TZID=Australia/Melbourne:20260430T190000
DTEND;TZID=Australia/Melbourne:20260430T220000
DTSTAMP:20260424T214857
CREATED:20260209T234815Z
LAST-MODIFIED:20260324T064402Z
UID:418-1777575600-1777586400@merrimashers.org
SUMMARY:April Club Meeting @ The Mill
DESCRIPTION:Intro\n\n\n\nThe last meeting at The Mill was awesome. In April we’re heading back there but this time they’re in their new venue in the Bendigo Hotel\, Collingwood. \n\n\n\nTheme\n\n\n\nGood beer\, good people and good times. \n\n\n\nContent\n\n\n\nMichael will be doing a What I Learned on his experience making Sake. \n\n\n\nFood\n\n\n\nYep\, The Mill do great food too. I can highly recommend their burgers and their parmas look good too. \n\n\n\nHomebrew\n\n\n\nYes\, please bring some if you can. Check invite close to the date for details about potential storage at the venue when you arrive. \n\n\n\nOther\n\n\n\nAs with all club meetings please support the venue by ordering their beers at the start of the night (if you can). \n\n\n\nWe will kick off announcements at roughly 7:15pm. The committee will give everyone a 5 minute warning so you have time to get another beer from the bar. \n\n\n\nLater\, AFTER the club updates\, it’s HIGHLY encouraged to share any homebrew you’ve brought. Sharing your creations is not only a tops thing to do but it’s a great way to get constructive feedback to improve your brewing. \n\n\n\nFinally\, if you’ve been stalking us on Facebook but aren’t a member yet you’re more than welcome to attend and see what we’re about. We’re an inclusive club and love newbies of all experience levels.
URL:https://merrimashers.org/event/april-club-meeting-the-mill/
LOCATION:The Mill\, 125 Johnston St\, Collingwood\, 3066\, Australia
CATEGORIES:Club Meetings & Events
ATTACH;FMTTYPE=image/jpeg:https://merrimashers.org/wp-content/uploads/2026/02/The-Mill.jpeg
END:VEVENT
BEGIN:VEVENT
DTSTART;TZID=Australia/Melbourne:20260509T110000
DTEND;TZID=Australia/Melbourne:20260509T120000
DTSTAMP:20260424T214857
CREATED:20260323T234125Z
LAST-MODIFIED:20260323T234126Z
UID:1073-1778324400-1778328000@merrimashers.org
SUMMARY:Belgian Beerfest comp deadline
DESCRIPTION:More details here.
URL:https://merrimashers.org/event/belgian-beerfest-comp-deadline/
CATEGORIES:Competitions
ATTACH;FMTTYPE=image/jpeg:https://merrimashers.org/wp-content/uploads/2026/03/yvb-logos.jpg
END:VEVENT
BEGIN:VEVENT
DTSTART;TZID=Australia/Melbourne:20260517T090000
DTEND;TZID=Australia/Melbourne:20260517T120000
DTSTAMP:20260424T214857
CREATED:20260323T234932Z
LAST-MODIFIED:20260324T064653Z
UID:1076-1779008400-1779019200@merrimashers.org
SUMMARY:YVB Belgian Beerfest Judging
DESCRIPTION:Judging day for the Yarra Valley Brewers Belgian Beerfest competition. \n\n\n\nNote: This event is listed as 9:00am–12:00pm so it doesn’t block out the entire day for those subscribed to the calendar. Please check the Yarra Valley Brewers website (or their email communications) for the exact judging session times. \n\n\n\nWe’ll post results to Discord as soon as they’re available\, with a follow-up on Facebook and the website later. \n\n\n\nGood luck to everyone who has entered!
URL:https://merrimashers.org/event/yvb-belgian-beerfest-judging/
LOCATION:Hard Road Brewing\, 31 Holloway Drive\, Bayswater\, VIC\, 3072\, Australia
CATEGORIES:Competitions
ATTACH;FMTTYPE=image/jpeg:https://merrimashers.org/wp-content/uploads/2026/03/yvb-logos.jpg
END:VEVENT
BEGIN:VEVENT
DTSTART;TZID=Australia/Melbourne:20260520T190000
DTEND;TZID=Australia/Melbourne:20260520T220000
DTSTAMP:20260424T214857
CREATED:20260225T021544Z
LAST-MODIFIED:20260324T064744Z
UID:622-1779303600-1779314400@merrimashers.org
SUMMARY:May Club Meeting @ Co Conspirators
DESCRIPTION:Intro\n\n\n\nIn May we’re heading back to Co Conspirators in Brunswick. It’s also Pint of Origin so it should be a great night. \n\n\n\nTheme\n\n\n\nGames night. Sometimes we take things too seriously. This meeting we’ve got some games in store to make things a little different. \n\n\n\nContent\n\n\n\nCheck back closer to the meeting date. \n\n\n\nFood\n\n\n\nCheck back closer to the meeting date. \n\n\n\nHomebrew\n\n\n\nCheck back closer to the meeting date. \n\n\n\nOther\n\n\n\nAs with all club meetings please support the venue by ordering their beers at the start of the night (if you can). \n\n\n\nWe will kick off announcements at roughly 7:15pm. The committee will give everyone a 5 minute warning so you have time to get another beer from the bar. \n\n\n\nLater\, AFTER the club updates\, it’s HIGHLY encouraged to share any homebrew you’ve brought. Sharing your creations is not only a tops thing to do but it’s a great way to get constructive feedback to improve your brewing. \n\n\n\nFinally\, if you’ve been stalking us on Facebook but aren’t a member yet you’re more than welcome to attend and see what we’re about. We’re an inclusive club and love newbies of all experience levels.
URL:https://merrimashers.org/event/may-club-meeting-co-conspirators/
LOCATION:Co Conspirators Brewpub\, 377 Victoria St\, Brunswick\, VIC\, 3056\, Australia
CATEGORIES:Club Meetings & Events
ATTACH;FMTTYPE=image/jpeg:https://merrimashers.org/wp-content/uploads/2026/02/Cocon.jpeg
END:VEVENT
BEGIN:VEVENT
DTSTART;TZID=Australia/Melbourne:20260613T150000
DTEND;TZID=Australia/Melbourne:20260613T230000
DTSTAMP:20260424T214857
CREATED:20260210T191032Z
LAST-MODIFIED:20260324T064807Z
UID:476-1781362800-1781391600@merrimashers.org
SUMMARY:Winter Feast 2026
DESCRIPTION:Winter Feast\, The Mashers and THursty Brewers annual winter celebration\, is back again in 2026. This event is open to Members and their family members (so long as they RSVP). This is just a save the date at this stage. More details to follow.
URL:https://merrimashers.org/event/winter-feast-2026/
LOCATION:Holger’s Farm\, Diamond Creek\, Vic\, Australia
CATEGORIES:Club Meetings & Events
ATTACH;FMTTYPE=image/jpeg:https://merrimashers.org/wp-content/uploads/2026/02/Copy-of-20250614_130124.jpg
END:VEVENT
BEGIN:VEVENT
DTSTART;TZID=Australia/Melbourne:20260625T190000
DTEND;TZID=Australia/Melbourne:20260625T220000
DTSTAMP:20260424T214857
CREATED:20260220T092359Z
LAST-MODIFIED:20260324T064837Z
UID:604-1782414000-1782424800@merrimashers.org
SUMMARY:June Club Meeting @ Keeper
DESCRIPTION:Intro\n\n\n\nARE YOU READY FOR AN AGM?! Yeah\, June is our AGM. It’s always well attended. This year we’re heading to Keeper in Brunswick. As well as having a front row seat to any coup d’etat’s that break out\, you will also see (or receive?) the latest 10 year membership badges being given out. Oh\, and the usual sharing of homebrew and good times. \n\n\n\nI’m writing this in February so it’s more of a placeholder at this stage. The committee will update this with more details closer to the date (so long as you promise to vote for us again). \n\n\n\nTheme\n\n\n\nCheck back closer to the date \n\n\n\nContent\n\n\n\nCheck back closer to the date \n\n\n\nFood\n\n\n\nCheck back closer to the date \n\n\n\nHomebrew\n\n\n\nCheck back closer to the date \n\n\n\nOther\n\n\n\nAs with all club meetings please support the venue by ordering their beers at the start of the night (if you can). \n\n\n\nWe will kick off announcements at roughly 7:15pm. The committee will give everyone a 5 minute warning so you have time to get another beer from the bar. \n\n\n\nLater\, AFTER the club updates\, it’s HIGHLY encouraged to share any homebrew you’ve brought. Sharing your creations is not only a tops thing to do but it’s a great way to get constructive feedback to improve your brewing. \n\n\n\nFinally\, if you’ve been stalking us on Facebook but aren’t a member yet you’re more than welcome to attend and see what we’re about. We’re an inclusive club and love newbies of all experience levels.
URL:https://merrimashers.org/event/june-club-meeting-keeper/
LOCATION:Keeper Brewing\, 122 Weston Street\, Brunswick\, VIC\, 3057\, Australia
CATEGORIES:Club Meetings & Events
ATTACH;FMTTYPE=image/jpeg:https://merrimashers.org/wp-content/uploads/2026/02/Keeper-brewing-bars-melbourne-bar-brunswick-east-top-local-breweries-best-after-work-beer-drinks-good-craft-beers-14.jpg
END:VEVENT
BEGIN:VEVENT
DTSTART;TZID=Australia/Melbourne:20260704T110000
DTEND;TZID=Australia/Melbourne:20260704T120000
DTSTAMP:20260424T214857
CREATED:20260324T003942Z
LAST-MODIFIED:20260324T003943Z
UID:1083-1783162800-1783166400@merrimashers.org
SUMMARY:Stout Extravaganza Entry Deadline
DESCRIPTION:It’s time again for the Westgate Brewers Stout Extravaganza. Judging is on Sunday 19 July at the Footscray Rowing Club and the entry deadline is Saturday 4 July. I’m assuming this is the drop off deadline too but keep an eye on their website for exact details closer to the date. \n\n\n\nThis is always a great comp so make sure you get around it but submitting entries and volunteering to judge or steward. \n\n\n\nWe will co-ordinate transports for those going via Discord closer to the date. \n\n\n\nGood luck to all Mashers entering.
URL:https://merrimashers.org/event/stout-extravaganza-entry-deadline/
CATEGORIES:Competitions
ATTACH;FMTTYPE=image/jpeg:https://merrimashers.org/wp-content/uploads/2026/03/Westgate-Trophy.jpg
END:VEVENT
BEGIN:VEVENT
DTSTART;TZID=Australia/Melbourne:20260719T130000
DTEND;TZID=Australia/Melbourne:20260719T180000
DTSTAMP:20260424T214857
CREATED:20260324T002802Z
LAST-MODIFIED:20260324T002803Z
UID:1078-1784466000-1784484000@merrimashers.org
SUMMARY:Westgate Stout Extravaganza Judging
DESCRIPTION:Judging will commence at 1:00pm\, with awards scheduled for 5:00pm. Please keep an eye on the Westgate Brewers website and communications from the competition organiser for any updates to timing or instructions. \n\n\n\nTransport for judges and stewards will be coordinated via Discord. \n\n\n\nResults will be posted to Discord as they are announced\, followed shortly by updates on Facebook and the website.
URL:https://merrimashers.org/event/westgate-stout-extravaganza-judging/
LOCATION:Footscray Rowing Club\, 40 Farnsworth Ave\, Footscray\, VIC\, Australia
CATEGORIES:Competitions
ATTACH;FMTTYPE=image/jpeg:https://merrimashers.org/wp-content/uploads/2026/03/Westgate-Trophy.jpg
END:VEVENT
BEGIN:VEVENT
DTSTART;TZID=Australia/Melbourne:20260728T190000
DTEND;TZID=Australia/Melbourne:20260728T220000
DTSTAMP:20260424T214857
CREATED:20260222T074026Z
LAST-MODIFIED:20260324T064928Z
UID:618-1785265200-1785276000@merrimashers.org
SUMMARY:July Club Meeting & Head to Head Comp @ Clifton Hill Brew Pub
DESCRIPTION:Intro\n\n\n\nBack for another year it’s the Merri Mashers Head to Head comp. Select club members brew a beer to a brief then on the night we judge them head to head. Anyway\, this is more of a place holder. More details to folllow. \n\n\n\nTheme\n\n\n\nCheck back closer to the date \n\n\n\nContent\n\n\n\nCheck back closer to the date \n\n\n\nFood\n\n\n\nCheck back closer to the date \n\n\n\nHomebrew\n\n\n\nCheck back closer to the date \n\n\n\nOther\n\n\n\nAs with all club meetings please support the venue by ordering their beers at the start of the night (if you can). \n\n\n\nWe will kick off announcements at roughly 7:15pm. The committee will give everyone a 5 minute warning so you have time to get another beer from the bar. \n\n\n\nLater\, AFTER the club updates\, it’s HIGHLY encouraged to share any homebrew you’ve brought. Sharing your creations is not only a tops thing to do but it’s a great way to get constructive feedback to improve your brewing. \n\n\n\nFinally\, if you’ve been stalking us on Facebook but aren’t a member yet you’re more than welcome to attend and see what we’re about. We’re an inclusive club and love newbies of all experience levels.
URL:https://merrimashers.org/event/merri-mashers-july-meeting-head-to-head-comp-clifton-hill-brew-pub/
LOCATION:Clifton Hill Brew Pub\, 89 Queens Parade\, Clifton Hill\, VIC\, 3068\, Australia
CATEGORIES:Club Meetings & Events
ATTACH;FMTTYPE=image/webp:https://merrimashers.org/wp-content/uploads/2026/02/CHBP.webp
END:VEVENT
BEGIN:VEVENT
DTSTART;TZID=Australia/Melbourne:20260828T190000
DTEND;TZID=Australia/Melbourne:20260828T220000
DTSTAMP:20260424T214857
CREATED:20260305T052326Z
LAST-MODIFIED:20260323T094834Z
UID:793-1787943600-1787954400@merrimashers.org
SUMMARY:August Club meeting @ Bonehead
DESCRIPTION:We haven’t had a club meeting at Bonehead before (I think?). This one is a Friday meeting too which is a great way to see in the weekend. \n\n\n\nTheme\n\n\n\nCheck back closer to the event \n\n\n\nContent\n\n\n\nCheck back closer to the event \n\n\n\nFood\n\n\n\nCheck back closer to the event \n\n\n\nHomebrew\n\n\n\nCheck back closer to the event \n\n\n\nOther\n\n\n\nAs with all club meetings please support the venue by ordering their beers at the start of the night (if you can). \n\n\n\nWe will kick off announcements at roughly 7:15pm. The committee will give everyone a 5 minute warning so you have time to get another beer from the bar. \n\n\n\nLater\, AFTER the club updates\, it’s HIGHLY encouraged to share any homebrew you’ve brought. Sharing your creations is not only a tops thing to do but it’s a great way to get constructive feedback to improve your brewing. \n\n\n\nFinally\, if you’ve been stalking us on Facebook but aren’t a member yet you’re more than welcome to attend and see what we’re about. We’re an inclusive club and love newbies of all experience levels.
URL:https://merrimashers.org/event/august-meeting-bonehead/
LOCATION:Bonehead\, 86 Parsons St\, Kensington\, VIc\, Australia
CATEGORIES:Club Meetings & Events
ATTACH;FMTTYPE=image/webp:https://merrimashers.org/wp-content/uploads/2026/03/Bonehead-2022-supplied-2-220616-105041.webp
END:VEVENT
BEGIN:VEVENT
DTSTART;TZID=Australia/Melbourne:20260924T190000
DTEND;TZID=Australia/Melbourne:20260924T220000
DTSTAMP:20260424T214857
CREATED:20260323T094645Z
LAST-MODIFIED:20260323T094647Z
UID:1067-1790276400-1790287200@merrimashers.org
SUMMARY:September Club Meeting @ Steam Jacket
DESCRIPTION:Intro \n\n\n\nWhile we had plenty of memorable meetings at the old Future Mountain\, we haven’t had a meeting at Steam Jacket yet. Well in September we’re going to remedy this. It’s a great venue right on the tram line \n\n\n\nTheme\n\n\n\nI’m writing this in March. Maybe check back closer to the date. This is more of a place holder \n\n\n\nContent\n\n\n\n \n\n\n\nFood\n\n\n\n \n\n\n\nHomebrew\n\n\n\n \n\n\n\nOther\n\n\n\nAs with all club meetings please support the venue by ordering their beers at the start of the night (if you can). \n\n\n\nWe will kick off announcements at roughly 7:15pm. The committee will give everyone a 5 minute warning so you have time to get another beer from the bar. \n\n\n\nLater\, AFTER the club updates\, it’s HIGHLY encouraged to share any homebrew you’ve brought. Sharing your creations is not only a tops thing to do but it’s a great way to get constructive feedback to improve your brewing. \n\n\n\nFinally\, if you’ve been stalking us on Facebook but aren’t a member yet you’re more than welcome to attend and see what we’re about. We’re an inclusive club and love newbies of all experience levels.
URL:https://merrimashers.org/event/september-club-meeting-steam-jacket/
LOCATION:steam jacket\, 703-707 Plenty Road\, Reservoir\, VIC\, 3073\, Australia
CATEGORIES:Club Meetings & Events
ATTACH;FMTTYPE=image/jpeg:https://merrimashers.org/wp-content/uploads/2026/03/Steam-jacket-brewing-bars-melbourne-bar-reservoir-top-after-work-drinks-best-beer-taps-breweries-good-cocktails-wines-1.jpg
END:VEVENT
BEGIN:VEVENT
DTSTART;TZID=Australia/Melbourne:20261107T150000
DTEND;TZID=Australia/Melbourne:20261107T220000
DTSTAMP:20260424T214857
CREATED:20260211T101425Z
LAST-MODIFIED:20260324T065004Z
UID:485-1794063600-1794088800@merrimashers.org
SUMMARY:Brewstock
DESCRIPTION:Brewstock is a new event this year. It’s not a Mashers event but it’s organised by a committee made up of representatives from most the Victorian clubs. It will be held at Holger’s farm in Diamond Creek and each club will set up a bar and show off their best beers. \nMore details are to follow. This is just a Save The Date for now. \nPhoto is from the last ANHC club night which is the inspiration for this event.
URL:https://merrimashers.org/event/brewstock/
LOCATION:Holger’s Farm\, Diamond Creek\, Vic\, Australia
CATEGORIES:Club Meetings & Events
ATTACH;FMTTYPE=image/jpeg:https://merrimashers.org/wp-content/uploads/2026/02/Copy-of-82AE474B-65AB-4FBA-A606-B0C0CE45602E_1_105_c.jpeg
END:VEVENT
BEGIN:VEVENT
DTSTART;TZID=Australia/Melbourne:20261205T120000
DTEND;TZID=Australia/Melbourne:20261205T223000
DTSTAMP:20260424T214857
CREATED:20260211T102000Z
LAST-MODIFIED:20260324T065030Z
UID:487-1796472000-1796509800@merrimashers.org
SUMMARY:Christmas Party 2026
DESCRIPTION:It’s the Mashers premiere event of the year. We’re back at Matt’s house in Brunswick. More details to follow. This is just a Save the Date at this stage.
URL:https://merrimashers.org/event/christmas-party-2026/
LOCATION:Matt A’s House\, Brunswick\, VIC\, Australia
CATEGORIES:Club Meetings & Events
ATTACH;FMTTYPE=image/jpeg:https://merrimashers.org/wp-content/uploads/2026/02/Copy-of-IMG_0409.jpg
END:VEVENT
END:VCALENDAR